BEGIN:VCALENDAR
VERSION:2.0
PRODID:-//Silvia Careddu - ECPv6.15.13//NONSGML v1.0//EN
CALSCALE:GREGORIAN
METHOD:PUBLISH
X-WR-CALNAME:Silvia Careddu
X-ORIGINAL-URL:https://www.silviacareddu.com
X-WR-CALDESC:Events for Silvia Careddu
REFRESH-INTERVAL;VALUE=DURATION:PT1H
X-Robots-Tag:noindex
X-PUBLISHED-TTL:PT1H
BEGIN:VTIMEZONE
TZID:Europe/Rome
BEGIN:DAYLIGHT
TZOFFSETFROM:+0100
TZOFFSETTO:+0200
TZNAME:CEST
DTSTART:20240331T010000
END:DAYLIGHT
BEGIN:STANDARD
TZOFFSETFROM:+0200
TZOFFSETTO:+0100
TZNAME:CET
DTSTART:20241027T010000
END:STANDARD
BEGIN:DAYLIGHT
TZOFFSETFROM:+0100
TZOFFSETTO:+0200
TZNAME:CEST
DTSTART:20250330T010000
END:DAYLIGHT
BEGIN:STANDARD
TZOFFSETFROM:+0200
TZOFFSETTO:+0100
TZNAME:CET
DTSTART:20251026T010000
END:STANDARD
BEGIN:DAYLIGHT
TZOFFSETFROM:+0100
TZOFFSETTO:+0200
TZNAME:CEST
DTSTART:20260329T010000
END:DAYLIGHT
BEGIN:STANDARD
TZOFFSETFROM:+0200
TZOFFSETTO:+0100
TZNAME:CET
DTSTART:20261025T010000
END:STANDARD
END:VTIMEZONE
BEGIN:VEVENT
DTSTART;TZID=Europe/Rome:20250407T173000
DTEND;TZID=Europe/Rome:20250407T190000
DTSTAMP:20260421T131619
CREATED:20250405T100445Z
LAST-MODIFIED:20250407T084936Z
UID:10000064-1744047000-1744052400@www.silviacareddu.com
SUMMARY:Bibliothèque nationale Française | Salle Ovale
DESCRIPTION:https://salleovale.bnf.fr/fr/agenda/exposition/fa760e25-ed7f-4d2e-a3a0-e268d60069d6
URL:https://www.silviacareddu.com/event/bibliotheque-nationale-francaise-salle-ovale/
LOCATION:Biblioteca nazionale di Francia – Sito Richelieu\, 5 Rue Vivienne\, 75002 Paris\, Francia\, 5 Rue Vivienne\, Paris\, Paris\, 75002\, France
END:VEVENT
END:VCALENDAR