BEGIN:VCALENDAR
VERSION:2.0
PRODID:-//Silvia Careddu - ECPv6.15.13//NONSGML v1.0//EN
CALSCALE:GREGORIAN
METHOD:PUBLISH
X-WR-CALNAME:Silvia Careddu
X-ORIGINAL-URL:https://www.silviacareddu.com
X-WR-CALDESC:Events for Silvia Careddu
REFRESH-INTERVAL;VALUE=DURATION:PT1H
X-Robots-Tag:noindex
X-PUBLISHED-TTL:PT1H
BEGIN:VTIMEZONE
TZID:Europe/Rome
BEGIN:DAYLIGHT
TZOFFSETFROM:+0100
TZOFFSETTO:+0200
TZNAME:CEST
DTSTART:20240331T010000
END:DAYLIGHT
BEGIN:STANDARD
TZOFFSETFROM:+0200
TZOFFSETTO:+0100
TZNAME:CET
DTSTART:20241027T010000
END:STANDARD
BEGIN:DAYLIGHT
TZOFFSETFROM:+0100
TZOFFSETTO:+0200
TZNAME:CEST
DTSTART:20250330T010000
END:DAYLIGHT
BEGIN:STANDARD
TZOFFSETFROM:+0200
TZOFFSETTO:+0100
TZNAME:CET
DTSTART:20251026T010000
END:STANDARD
BEGIN:DAYLIGHT
TZOFFSETFROM:+0100
TZOFFSETTO:+0200
TZNAME:CEST
DTSTART:20260329T010000
END:DAYLIGHT
BEGIN:STANDARD
TZOFFSETFROM:+0200
TZOFFSETTO:+0100
TZNAME:CET
DTSTART:20261025T010000
END:STANDARD
END:VTIMEZONE
BEGIN:VEVENT
DTSTART;TZID=Europe/Rome:20250515T040000
DTEND;TZID=Europe/Rome:20250515T060000
DTSTAMP:20260422T071445
CREATED:20241213T182833Z
LAST-MODIFIED:20250329T105634Z
UID:10000049-1747281600-1747288800@www.silviacareddu.com
SUMMARY:Konzert KAP| KMS Berlin Philharmonie
DESCRIPTION:
URL:https://www.silviacareddu.com/event/konzert-kap-kms-berlin-philharmonie/
LOCATION:Kammermusiksaal\, Herbert-von-Karajan-Straße 1\, 10785 Berlin\, Germania
ATTACH;FMTTYPE=image/webp:https://www.silviacareddu.com/wp-content/uploads/2024/12/Kammermusiksaal-Berlin-c-Reinhard-FriedrichBerliner-Philharmoniker-620x310-1.webp
END:VEVENT
END:VCALENDAR