BEGIN:VCALENDAR
VERSION:2.0
PRODID:-//Silvia Careddu - ECPv6.15.13//NONSGML v1.0//EN
CALSCALE:GREGORIAN
METHOD:PUBLISH
X-ORIGINAL-URL:https://www.silviacareddu.com
X-WR-CALDESC:Events for Silvia Careddu
REFRESH-INTERVAL;VALUE=DURATION:PT1H
X-Robots-Tag:noindex
X-PUBLISHED-TTL:PT1H
BEGIN:VTIMEZONE
TZID:Europe/Rome
BEGIN:DAYLIGHT
TZOFFSETFROM:+0100
TZOFFSETTO:+0200
TZNAME:CEST
DTSTART:20240331T010000
END:DAYLIGHT
BEGIN:STANDARD
TZOFFSETFROM:+0200
TZOFFSETTO:+0100
TZNAME:CET
DTSTART:20241027T010000
END:STANDARD
BEGIN:DAYLIGHT
TZOFFSETFROM:+0100
TZOFFSETTO:+0200
TZNAME:CEST
DTSTART:20250330T010000
END:DAYLIGHT
BEGIN:STANDARD
TZOFFSETFROM:+0200
TZOFFSETTO:+0100
TZNAME:CET
DTSTART:20251026T010000
END:STANDARD
BEGIN:DAYLIGHT
TZOFFSETFROM:+0100
TZOFFSETTO:+0200
TZNAME:CEST
DTSTART:20260329T010000
END:DAYLIGHT
BEGIN:STANDARD
TZOFFSETFROM:+0200
TZOFFSETTO:+0100
TZNAME:CET
DTSTART:20261025T010000
END:STANDARD
END:VTIMEZONE
BEGIN:VEVENT
DTSTART;TZID=Europe/Rome:20250516T193000
DTEND;TZID=Europe/Rome:20250516T210000
DTSTAMP:20260422T071624
CREATED:20241213T182833Z
LAST-MODIFIED:20250515T192809Z
UID:10000050-1747423800-1747429200@www.silviacareddu.com
SUMMARY:Kammerakademie Potsdam A.Manacorda | Konzert in Hannover
DESCRIPTION:
URL:https://www.silviacareddu.com/event/kap-konzert-in-hannover/
LOCATION:NDR Konzerthaus | Großer Sendesaal\, Rudolf-von-Bennigsen-Ufer 22\, 30169 Hannover\, Germania\, Paris\, France
CATEGORIES:Concert
ATTACH;FMTTYPE=image/jpeg:https://www.silviacareddu.com/wp-content/uploads/2024/12/ka_potsdam_by_nikolaj_lund.jpg
END:VEVENT
END:VCALENDAR