BEGIN:VCALENDAR
VERSION:2.0
PRODID:-//Silvia Careddu - ECPv6.15.13//NONSGML v1.0//EN
CALSCALE:GREGORIAN
METHOD:PUBLISH
X-WR-CALNAME:Silvia Careddu
X-ORIGINAL-URL:https://www.silviacareddu.com
X-WR-CALDESC:Events for Silvia Careddu
REFRESH-INTERVAL;VALUE=DURATION:PT1H
X-Robots-Tag:noindex
X-PUBLISHED-TTL:PT1H
BEGIN:VTIMEZONE
TZID:Europe/Rome
BEGIN:DAYLIGHT
TZOFFSETFROM:+0100
TZOFFSETTO:+0200
TZNAME:CEST
DTSTART:20240331T010000
END:DAYLIGHT
BEGIN:STANDARD
TZOFFSETFROM:+0200
TZOFFSETTO:+0100
TZNAME:CET
DTSTART:20241027T010000
END:STANDARD
BEGIN:DAYLIGHT
TZOFFSETFROM:+0100
TZOFFSETTO:+0200
TZNAME:CEST
DTSTART:20250330T010000
END:DAYLIGHT
BEGIN:STANDARD
TZOFFSETFROM:+0200
TZOFFSETTO:+0100
TZNAME:CET
DTSTART:20251026T010000
END:STANDARD
BEGIN:DAYLIGHT
TZOFFSETFROM:+0100
TZOFFSETTO:+0200
TZNAME:CEST
DTSTART:20260329T010000
END:DAYLIGHT
BEGIN:STANDARD
TZOFFSETFROM:+0200
TZOFFSETTO:+0100
TZNAME:CET
DTSTART:20261025T010000
END:STANDARD
END:VTIMEZONE
BEGIN:VEVENT
DTSTART;VALUE=DATE:20250709
DTEND;VALUE=DATE:20250712
DTSTAMP:20260422T093539
CREATED:20250406T042824Z
LAST-MODIFIED:20250711T234038Z
UID:10000069-1752019200-1752278399@www.silviacareddu.com
SUMMARY:Academia Musicale di Imola | Postgraduate lessons
DESCRIPTION:
URL:https://www.silviacareddu.com/event/academia-musicale-di-imola-postgraduate-lessons/
LOCATION:Fondazione Accademia Internazionale di Imola “Incontri con il Maestro”\, Rocca Sforzesca di\, Piazzale Giovanni Dalle Bande Nere\, 40026 Imola BO\, Italia
ATTACH;FMTTYPE=image/jpeg:https://www.silviacareddu.com/wp-content/uploads/2025/04/Academia-Musicale-di-Imola.jpg
END:VEVENT
END:VCALENDAR