BEGIN:VCALENDAR
VERSION:2.0
PRODID:-//Silvia Careddu - ECPv6.15.13//NONSGML v1.0//EN
CALSCALE:GREGORIAN
METHOD:PUBLISH
X-WR-CALNAME:Silvia Careddu
X-ORIGINAL-URL:https://www.silviacareddu.com
X-WR-CALDESC:Events for Silvia Careddu
REFRESH-INTERVAL;VALUE=DURATION:PT1H
X-Robots-Tag:noindex
X-PUBLISHED-TTL:PT1H
BEGIN:VTIMEZONE
TZID:Europe/Rome
BEGIN:DAYLIGHT
TZOFFSETFROM:+0100
TZOFFSETTO:+0200
TZNAME:CEST
DTSTART:20240331T010000
END:DAYLIGHT
BEGIN:STANDARD
TZOFFSETFROM:+0200
TZOFFSETTO:+0100
TZNAME:CET
DTSTART:20241027T010000
END:STANDARD
BEGIN:DAYLIGHT
TZOFFSETFROM:+0100
TZOFFSETTO:+0200
TZNAME:CEST
DTSTART:20250330T010000
END:DAYLIGHT
BEGIN:STANDARD
TZOFFSETFROM:+0200
TZOFFSETTO:+0100
TZNAME:CET
DTSTART:20251026T010000
END:STANDARD
BEGIN:DAYLIGHT
TZOFFSETFROM:+0100
TZOFFSETTO:+0200
TZNAME:CEST
DTSTART:20260329T010000
END:DAYLIGHT
BEGIN:STANDARD
TZOFFSETFROM:+0200
TZOFFSETTO:+0100
TZNAME:CET
DTSTART:20261025T010000
END:STANDARD
END:VTIMEZONE
BEGIN:VEVENT
DTSTART;TZID=Europe/Rome:20251001T193000
DTEND;TZID=Europe/Rome:20251001T203000
DTSTAMP:20260422T122430
CREATED:20250930T195536Z
LAST-MODIFIED:20251001T182532Z
UID:10000073-1759347000-1759350600@www.silviacareddu.com
SUMMARY:Krakow | W.A.Mozart\, Concerto in G-Major K313 | Filharmonica Krakow\, F. Bottigliero
DESCRIPTION:
URL:https://www.silviacareddu.com/event/krakow-w-a-mozart-concerto-in-g-major-k313-filharmonica-krakow-f-bottigliero/
LOCATION:The Cracow Philharmonic\, Zwierzyniecka 1\, 31-103 Kraków\, Polonia
END:VEVENT
END:VCALENDAR