BEGIN:VCALENDAR
VERSION:2.0
PRODID:-//Silvia Careddu - ECPv6.15.13//NONSGML v1.0//EN
CALSCALE:GREGORIAN
METHOD:PUBLISH
X-WR-CALNAME:Silvia Careddu
X-ORIGINAL-URL:https://www.silviacareddu.com
X-WR-CALDESC:Events for Silvia Careddu
REFRESH-INTERVAL;VALUE=DURATION:PT1H
X-Robots-Tag:noindex
X-PUBLISHED-TTL:PT1H
BEGIN:VTIMEZONE
TZID:Europe/Rome
BEGIN:DAYLIGHT
TZOFFSETFROM:+0100
TZOFFSETTO:+0200
TZNAME:CEST
DTSTART:20250330T010000
END:DAYLIGHT
BEGIN:STANDARD
TZOFFSETFROM:+0200
TZOFFSETTO:+0100
TZNAME:CET
DTSTART:20251026T010000
END:STANDARD
BEGIN:DAYLIGHT
TZOFFSETFROM:+0100
TZOFFSETTO:+0200
TZNAME:CEST
DTSTART:20260329T010000
END:DAYLIGHT
BEGIN:STANDARD
TZOFFSETFROM:+0200
TZOFFSETTO:+0100
TZNAME:CET
DTSTART:20261025T010000
END:STANDARD
BEGIN:DAYLIGHT
TZOFFSETFROM:+0100
TZOFFSETTO:+0200
TZNAME:CEST
DTSTART:20270328T010000
END:DAYLIGHT
BEGIN:STANDARD
TZOFFSETFROM:+0200
TZOFFSETTO:+0100
TZNAME:CET
DTSTART:20271031T010000
END:STANDARD
END:VTIMEZONE
BEGIN:VEVENT
DTSTART;TZID=Europe/Rome:20260421T200000
DTEND;TZID=Europe/Rome:20260421T213000
DTSTAMP:20260421T115815
CREATED:20260421T065644Z
LAST-MODIFIED:20260421T095645Z
UID:10000109-1776801600-1776807000@www.silviacareddu.com
SUMMARY:Tokyo | Récital with M. Nagasaki
DESCRIPTION:
URL:https://www.silviacareddu.com/event/tokyo-recital-with-m-nagasaki/
LOCATION:Dolce Shinjuku\, 7-chōme-18 Shinjuku\, Shinjuku City\, Tokyo 160-0022\, Giappone
END:VEVENT
END:VCALENDAR