BEGIN:VCALENDAR
VERSION:2.0
PRODID:-//Silvia Careddu - ECPv6.15.13//NONSGML v1.0//EN
CALSCALE:GREGORIAN
METHOD:PUBLISH
X-ORIGINAL-URL:https://www.silviacareddu.com
X-WR-CALDESC:Events for Silvia Careddu
REFRESH-INTERVAL;VALUE=DURATION:PT1H
X-Robots-Tag:noindex
X-PUBLISHED-TTL:PT1H
BEGIN:VTIMEZONE
TZID:Europe/Rome
BEGIN:DAYLIGHT
TZOFFSETFROM:+0100
TZOFFSETTO:+0200
TZNAME:CEST
DTSTART:20230326T010000
END:DAYLIGHT
BEGIN:STANDARD
TZOFFSETFROM:+0200
TZOFFSETTO:+0100
TZNAME:CET
DTSTART:20231029T010000
END:STANDARD
BEGIN:DAYLIGHT
TZOFFSETFROM:+0100
TZOFFSETTO:+0200
TZNAME:CEST
DTSTART:20240331T010000
END:DAYLIGHT
BEGIN:STANDARD
TZOFFSETFROM:+0200
TZOFFSETTO:+0100
TZNAME:CET
DTSTART:20241027T010000
END:STANDARD
BEGIN:DAYLIGHT
TZOFFSETFROM:+0100
TZOFFSETTO:+0200
TZNAME:CEST
DTSTART:20250330T010000
END:DAYLIGHT
BEGIN:STANDARD
TZOFFSETFROM:+0200
TZOFFSETTO:+0100
TZNAME:CET
DTSTART:20251026T010000
END:STANDARD
BEGIN:DAYLIGHT
TZOFFSETFROM:+0100
TZOFFSETTO:+0200
TZNAME:CEST
DTSTART:20260329T010000
END:DAYLIGHT
BEGIN:STANDARD
TZOFFSETFROM:+0200
TZOFFSETTO:+0100
TZNAME:CET
DTSTART:20261025T010000
END:STANDARD
END:VTIMEZONE
BEGIN:VEVENT
DTSTART;TZID=Europe/Rome:20250526T200000
DTEND;TZID=Europe/Rome:20250526T213000
DTSTAMP:20260420T100823
CREATED:20241213T182849Z
LAST-MODIFIED:20250526T102628Z
UID:10000055-1748289600-1748295000@www.silviacareddu.com
SUMMARY:Kammerakademie Potsdam | A. Manacorda | Konzert in Hamburg
DESCRIPTION:
URL:https://www.silviacareddu.com/event/kap-konzert-in-hamburg/
LOCATION:Elbphilharmonie\, Platz d. Deutschen Einheit 4\, 20457 Hamburg\, Germania\, Paris\, France
CATEGORIES:Concert
ATTACH;FMTTYPE=image/jpeg:https://www.silviacareddu.com/wp-content/uploads/2024/12/ka_potsdam_by_nikolaj_lund.jpg
END:VEVENT
BEGIN:VEVENT
DTSTART;TZID=Europe/Rome:20250523T200000
DTEND;TZID=Europe/Rome:20250523T213000
DTSTAMP:20260420T100823
CREATED:20241213T182848Z
LAST-MODIFIED:20250523T012810Z
UID:10000054-1748030400-1748035800@www.silviacareddu.com
SUMMARY:Kammerakademie Potsdam | A. Manacorda | Konzert in Braunschweig
DESCRIPTION:
URL:https://www.silviacareddu.com/event/kap-konzert-in-braunschweig/
LOCATION:Staatstheater Braunschweig\, Am Theater\, 38100 Braunschweig\, Germania\, Paris\, France
CATEGORIES:Concert
ATTACH;FMTTYPE=image/jpeg:https://www.silviacareddu.com/wp-content/uploads/2024/12/ka_potsdam_by_nikolaj_lund.jpg
END:VEVENT
BEGIN:VEVENT
DTSTART;TZID=Europe/Rome:20250522T200000
DTEND;TZID=Europe/Rome:20250522T213000
DTSTAMP:20260420T100823
CREATED:20241213T182848Z
LAST-MODIFIED:20250521T022809Z
UID:10000053-1747944000-1747949400@www.silviacareddu.com
SUMMARY:Kammerakademie Potsdam | A. Manacorda | Konzert in Prag
DESCRIPTION:
URL:https://www.silviacareddu.com/event/kap-konzert-in-prag/
LOCATION:Rudolfinum\, Alšovo nábř. 79/12\, Staré Město\, 110 00 Staré město-Praha 1\, Cechia\, Paris\, France
CATEGORIES:Concert
ATTACH;FMTTYPE=image/jpeg:https://www.silviacareddu.com/wp-content/uploads/2024/12/ka_potsdam_by_nikolaj_lund.jpg
END:VEVENT
BEGIN:VEVENT
DTSTART;TZID=Europe/Rome:20250519T200000
DTEND;TZID=Europe/Rome:20250519T213000
DTSTAMP:20260420T100823
CREATED:20241213T182834Z
LAST-MODIFIED:20250519T032810Z
UID:10000052-1747684800-1747690200@www.silviacareddu.com
SUMMARY:Kammerakademie Potsdam | A. Manacorda | Konzert in Düsseldorf
DESCRIPTION:
URL:https://www.silviacareddu.com/event/kap-konzert-in-dusseldorf/
LOCATION:Tonhalle Düsseldorf\, Ehrenhof 1\, 40479 Düsseldorf\, Germania
CATEGORIES:Concert
ATTACH;FMTTYPE=image/jpeg:https://www.silviacareddu.com/wp-content/uploads/2024/12/ka_potsdam_by_nikolaj_lund.jpg
END:VEVENT
BEGIN:VEVENT
DTSTART;TZID=Europe/Rome:20250517T193000
DTEND;TZID=Europe/Rome:20250517T210000
DTSTAMP:20260420T100823
CREATED:20241213T182834Z
LAST-MODIFIED:20250517T152811Z
UID:10000051-1747510200-1747515600@www.silviacareddu.com
SUMMARY:Kammerakademie Potsdam | A. Manacorda | Konzert in Potsdam
DESCRIPTION:
URL:https://www.silviacareddu.com/event/kap-konzert-in-potsdam/
LOCATION:Nikolaisaal\, Wilhelm-Staab-Straße 10-11\, 14467 Potsdam\, Germania
CATEGORIES:Concert
ATTACH;FMTTYPE=image/jpeg:https://www.silviacareddu.com/wp-content/uploads/2024/12/ka_potsdam_by_nikolaj_lund.jpg
END:VEVENT
BEGIN:VEVENT
DTSTART;TZID=Europe/Rome:20250516T193000
DTEND;TZID=Europe/Rome:20250516T210000
DTSTAMP:20260420T100823
CREATED:20241213T182833Z
LAST-MODIFIED:20250515T192809Z
UID:10000050-1747423800-1747429200@www.silviacareddu.com
SUMMARY:Kammerakademie Potsdam A.Manacorda | Konzert in Hannover
DESCRIPTION:
URL:https://www.silviacareddu.com/event/kap-konzert-in-hannover/
LOCATION:NDR Konzerthaus | Großer Sendesaal\, Rudolf-von-Bennigsen-Ufer 22\, 30169 Hannover\, Germania\, Paris\, France
CATEGORIES:Concert
ATTACH;FMTTYPE=image/jpeg:https://www.silviacareddu.com/wp-content/uploads/2024/12/ka_potsdam_by_nikolaj_lund.jpg
END:VEVENT
BEGIN:VEVENT
DTSTART;TZID=Europe/Rome:20241208T123000
DTEND;TZID=Europe/Rome:20241208T143000
DTSTAMP:20260420T100823
CREATED:20240813T182811Z
LAST-MODIFIED:20241207T202809Z
UID:10000018-1733661000-1733668200@www.silviacareddu.com
SUMMARY:Ciudad de Mexico | Ibert Concerto
DESCRIPTION:
URL:https://www.silviacareddu.com/event/new-mexico-ibert-concerto-2/
LOCATION:Palacio de Bellas Artes\, Av. Juarez S/N\, Centro Histórico de la Cdad. de México\, Centro\, Cuauhtémoc\, 06050 Ciudad de México\, CDMX\, Messico
CATEGORIES:Concert
ATTACH;FMTTYPE=image/jpeg:https://www.silviacareddu.com/wp-content/uploads/2024/08/Thumbnail-Image-Palacio-de-Bellas-Artes-fermatta.edu_.mx_.jpg
END:VEVENT
BEGIN:VEVENT
DTSTART;TZID=Europe/Rome:20241206T200000
DTEND;TZID=Europe/Rome:20241206T220000
DTSTAMP:20260420T100823
CREATED:20240812T092036Z
LAST-MODIFIED:20241205T232811Z
UID:10000017-1733515200-1733522400@www.silviacareddu.com
SUMMARY:Ciudad de Mexico | Ibert Concerto
DESCRIPTION:
URL:https://www.silviacareddu.com/event/new-mexico-ibert-concerto/
LOCATION:Palacio de Bellas Artes\, Av. Juarez S/N\, Centro Histórico de la Cdad. de México\, Centro\, Cuauhtémoc\, 06050 Ciudad de México\, CDMX\, Messico
CATEGORIES:Concert
ATTACH;FMTTYPE=image/jpeg:https://www.silviacareddu.com/wp-content/uploads/2024/08/Thumbnail-Image-Palacio-de-Bellas-Artes-fermatta.edu_.mx_.jpg
END:VEVENT
BEGIN:VEVENT
DTSTART;TZID=Europe/Rome:20240818T170000
DTEND;TZID=Europe/Rome:20240818T190000
DTSTAMP:20260420T100823
CREATED:20240518T121859Z
LAST-MODIFIED:20240812T093203Z
UID:10000006-1724000400-1724007600@www.silviacareddu.com
SUMMARY:Bern | ABEW - Master Concert Alban Berg Ensemble Vienna
DESCRIPTION:Late Romanticism and Milestone\nAlban Berg’s motto “connected to the past\, devoted to the new” is still the guiding principle for the Alban Berg Ensemble Vienna.\nFor its debut in Bern\, it will bring Gustav Mahler’s last (almost) completed symphony movement as well as Arnold Schoenberg’s Chamber Symphony. \n\nContributors\nAlban Berg Ensemble Vienna\nSebastian Gürtler\, violin\nRégis Bringolf\, violin\nSu Bin Lee\, viola\nFlorian Berner\, cello\nAriane Haering\, piano\nSilvia Careddu\, flute\nAlexander Neubauer\, clarinet \n\nprogram\nGustav Mahler (1860 – 1911)\nQuartet movement for piano\, violin\, viola and violoncello in A minor (fragment) \nAlfred Schnittke (1934 – 1998)\nQuartet for piano\, violin\, viola and violoncello\, 2nd movement (Scherzo from Gustav Mahler’s notes) \n*** \nArnold Schönberg (1874 – 1951)\nChamber Symphony No. 1 op. 9 (arr. Anton Webern) \nGustav Mahler (1860 – 1911)\nAdagio from Symphony No. 10 (arr. Martyn Harry)
URL:https://www.silviacareddu.com/event/bern-abew/
LOCATION:Auditorium Martha Müller – Bern\, Zentrum Paul Klee Monument in Fruchtland 3\, Bern\, CH-3006\, Switzerland
CATEGORIES:Concert
ATTACH;FMTTYPE=image/webp:https://www.silviacareddu.com/wp-content/uploads/2024/05/berner-symphonieorchester_c_priska-kletterer-1135968a.webp
END:VEVENT
BEGIN:VEVENT
DTSTART;VALUE=DATE:20240817
DTEND;VALUE=DATE:20240818
DTSTAMP:20260420T100823
CREATED:20240728T113825Z
LAST-MODIFIED:20240729T120712Z
UID:10000007-1723852800-1723939199@www.silviacareddu.com
SUMMARY:Festival di Asiago | Recital Flute & Piano\, with José Gallardo
DESCRIPTION:
URL:https://www.silviacareddu.com/event/festival-di-asiago-recital-flutepiano-with-jose-gallardo/
LOCATION:Palazzo del turismo\, Asiago\, Via Millepini\, 1\,\, Asiago\, VI\, 36012\, Italy
CATEGORIES:Concert
ATTACH;FMTTYPE=image/jpeg:https://www.silviacareddu.com/wp-content/uploads/2024/07/Struttura01.jpg
END:VEVENT
BEGIN:VEVENT
DTSTART;TZID=Europe/Rome:20240717T080000
DTEND;TZID=Europe/Rome:20240717T170000
DTSTAMP:20260420T100823
CREATED:20240518T120814Z
LAST-MODIFIED:20240518T133406Z
UID:10000004-1721203200-1721235600@www.silviacareddu.com
SUMMARY:Bad Kissingen | C.Ph.E. Bach d-moll Konzert with Potsdam Akademie
DESCRIPTION:Join us for an enchanting evening with the Kammerakademie Potsdam\, featuring the extraordinary flautist Silvia Careddu. Recognized as one of the leading orchestras in Germany and winner of the Opus Prize\, the Kammerakademie Potsdam will present a captivating program that blends classical masterpieces with contemporary gems. Silvia Careddu\, celebrated for her exquisite technique and expressive performances\, will bring her unique artistry to the stage\, offering an unforgettable musical experience. Don’t miss this opportunity to witness a collaboration that promises to touch the heart and soul of every listener.
URL:https://www.silviacareddu.com/event/bad-kissingen-c-ph-e-bach-d-moll-konzert-with-potsdam-akademie/
LOCATION:Kammerakademie Potsdam\, Wilhelm-Staab-Straße 11\, Potsdam\, 14467\, Germany
CATEGORIES:Concert
ATTACH;FMTTYPE=image/jpeg:https://www.silviacareddu.com/wp-content/uploads/2024/05/ka_potsdam_by_nikolaj_lund-1030x686-1.jpg
END:VEVENT
BEGIN:VEVENT
DTSTART;TZID=Europe/Rome:20240603T193000
DTEND;TZID=Europe/Rome:20240603T210000
DTSTAMP:20260420T100823
CREATED:20240518T115941Z
LAST-MODIFIED:20240518T120416Z
UID:10000002-1717443000-1717448400@www.silviacareddu.com
SUMMARY:Spektrum | ZHdK | Wind quintett Concert
DESCRIPTION:Join us for an enchanting evening with the Kammerakademie Potsdam\, featuring the extraordinary flautist Silvia Careddu. Recognized as one of the leading orchestras in Germany and winner of the Opus Prize\, the Kammerakademie Potsdam will present a captivating program that blends classical masterpieces with contemporary gems. Silvia Careddu\, celebrated for her exquisite technique and expressive performances\, will bring her unique artistry to the stage\, offering an unforgettable musical experience. Don’t miss this opportunity to witness a collaboration that promises to touch the heart and soul of every listener.
URL:https://www.silviacareddu.com/event/spektrum-zhdk-wind-quintett-concert/
LOCATION:Zurich University of the Arts\, Pfingstweidstrasse 96\, 8005\, Zürich\, 8005\, Switzerland
CATEGORIES:Concert
ATTACH;FMTTYPE=image/jpeg:https://www.silviacareddu.com/wp-content/uploads/2024/05/Zurich-University-of-the-Arts.jpeg
END:VEVENT
BEGIN:VEVENT
DTSTART;TZID=Europe/Rome:20240602T080000
DTEND;TZID=Europe/Rome:20240602T170000
DTSTAMP:20260420T100823
CREATED:20240518T104451Z
LAST-MODIFIED:20240518T104628Z
UID:10000001-1717315200-1717347600@www.silviacareddu.com
SUMMARY:Kammerakademie Potsdam | Concert
DESCRIPTION:Join us for an enchanting evening with the Kammerakademie Potsdam\, featuring the extraordinary flautist Silvia Careddu. Recognized as one of the leading orchestras in Germany and winner of the Opus Prize\, the Kammerakademie Potsdam will present a captivating program that blends classical masterpieces with contemporary gems. Silvia Careddu\, celebrated for her exquisite technique and expressive performances\, will bring her unique artistry to the stage\, offering an unforgettable musical experience. Don’t miss this opportunity to witness a collaboration that promises to touch the heart and soul of every listener.
URL:https://www.silviacareddu.com/event/kammerakademie-potsdam-concert/
LOCATION:Kammerakademie Potsdam\, Wilhelm-Staab-Straße 11\, Potsdam\, 14467\, Germany
CATEGORIES:Concert
ATTACH;FMTTYPE=image/jpeg:https://www.silviacareddu.com/wp-content/uploads/2024/05/ka_potsdam_by_nikolaj_lund-1030x686-1.jpg
END:VEVENT
END:VCALENDAR