BEGIN:VCALENDAR
VERSION:2.0
PRODID:-//Silvia Careddu - ECPv6.15.13//NONSGML v1.0//EN
CALSCALE:GREGORIAN
METHOD:PUBLISH
X-WR-CALNAME:Silvia Careddu
X-ORIGINAL-URL:https://www.silviacareddu.com
X-WR-CALDESC:Events for Silvia Careddu
REFRESH-INTERVAL;VALUE=DURATION:PT1H
X-Robots-Tag:noindex
X-PUBLISHED-TTL:PT1H
BEGIN:VTIMEZONE
TZID:Europe/Rome
BEGIN:DAYLIGHT
TZOFFSETFROM:+0100
TZOFFSETTO:+0200
TZNAME:CEST
DTSTART:20240331T010000
END:DAYLIGHT
BEGIN:STANDARD
TZOFFSETFROM:+0200
TZOFFSETTO:+0100
TZNAME:CET
DTSTART:20241027T010000
END:STANDARD
BEGIN:DAYLIGHT
TZOFFSETFROM:+0100
TZOFFSETTO:+0200
TZNAME:CEST
DTSTART:20250330T010000
END:DAYLIGHT
BEGIN:STANDARD
TZOFFSETFROM:+0200
TZOFFSETTO:+0100
TZNAME:CET
DTSTART:20251026T010000
END:STANDARD
BEGIN:DAYLIGHT
TZOFFSETFROM:+0100
TZOFFSETTO:+0200
TZNAME:CEST
DTSTART:20260329T010000
END:DAYLIGHT
BEGIN:STANDARD
TZOFFSETFROM:+0200
TZOFFSETTO:+0100
TZNAME:CET
DTSTART:20261025T010000
END:STANDARD
END:VTIMEZONE
BEGIN:VEVENT
DTSTART;VALUE=DATE:20250612
DTEND;VALUE=DATE:20250616
DTSTAMP:20260422T071342
CREATED:20250406T042824Z
LAST-MODIFIED:20250615T172811Z
UID:10000066-1749686400-1750031999@www.silviacareddu.com
SUMMARY:Intonations |\nJerusalem International Chamber Music Festival | Berlin
DESCRIPTION:https://www.eventim-light.com/de/a/65e855266d345052cd3e9f20/e/67beee9e3275fb0e1d3a9cf2
URL:https://www.silviacareddu.com/event/intonations-jerusalem-international-chamber-music-festival-berlin/
LOCATION:Kühlhaus Berlin\, Luckenwalder Str. 3\, 10963 Berlin\, Germania
END:VEVENT
BEGIN:VEVENT
DTSTART;VALUE=DATE:20250616
DTEND;VALUE=DATE:20250622
DTSTAMP:20260422T071342
CREATED:20241213T182849Z
LAST-MODIFIED:20250621T235551Z
UID:10000056-1750032000-1750550399@www.silviacareddu.com
SUMMARY:Domaine Forget | Masterclass & Concerts
DESCRIPTION:
URL:https://www.silviacareddu.com/event/domaine-forget-masterclass-concerts/
LOCATION:Domaine-Forget\, QC J0K 2M0\, Canada
END:VEVENT
BEGIN:VEVENT
DTSTART;VALUE=DATE:20250627
DTEND;VALUE=DATE:20250629
DTSTAMP:20260422T071342
CREATED:20250406T042824Z
LAST-MODIFIED:20250628T235523Z
UID:10000067-1750982400-1751155199@www.silviacareddu.com
SUMMARY:Masterclass | Mondovì\, Italy
DESCRIPTION:
URL:https://www.silviacareddu.com/event/masterclass-mondovi-italy/
END:VEVENT
BEGIN:VEVENT
DTSTART;VALUE=DATE:20250628
DTEND;VALUE=DATE:20250630
DTSTAMP:20260422T071342
CREATED:20241213T182849Z
LAST-MODIFIED:20241226T022843Z
UID:10000057-1751068800-1751241599@www.silviacareddu.com
SUMMARY:Incontri col Maestro | Falaut | Masterclass
DESCRIPTION:
URL:https://www.silviacareddu.com/event/incontri-col-maestro-falaut-masterclass/
END:VEVENT
END:VCALENDAR