BEGIN:VCALENDAR
VERSION:2.0
PRODID:-//Silvia Careddu - ECPv6.15.13//NONSGML v1.0//EN
CALSCALE:GREGORIAN
METHOD:PUBLISH
X-WR-CALNAME:Silvia Careddu
X-ORIGINAL-URL:https://www.silviacareddu.com
X-WR-CALDESC:Events for Silvia Careddu
REFRESH-INTERVAL;VALUE=DURATION:PT1H
X-Robots-Tag:noindex
X-PUBLISHED-TTL:PT1H
BEGIN:VTIMEZONE
TZID:Europe/Rome
BEGIN:DAYLIGHT
TZOFFSETFROM:+0100
TZOFFSETTO:+0200
TZNAME:CEST
DTSTART:20240331T010000
END:DAYLIGHT
BEGIN:STANDARD
TZOFFSETFROM:+0200
TZOFFSETTO:+0100
TZNAME:CET
DTSTART:20241027T010000
END:STANDARD
BEGIN:DAYLIGHT
TZOFFSETFROM:+0100
TZOFFSETTO:+0200
TZNAME:CEST
DTSTART:20250330T010000
END:DAYLIGHT
BEGIN:STANDARD
TZOFFSETFROM:+0200
TZOFFSETTO:+0100
TZNAME:CET
DTSTART:20251026T010000
END:STANDARD
BEGIN:DAYLIGHT
TZOFFSETFROM:+0100
TZOFFSETTO:+0200
TZNAME:CEST
DTSTART:20260329T010000
END:DAYLIGHT
BEGIN:STANDARD
TZOFFSETFROM:+0200
TZOFFSETTO:+0100
TZNAME:CET
DTSTART:20261025T010000
END:STANDARD
END:VTIMEZONE
BEGIN:VEVENT
DTSTART;VALUE=DATE:20250828
DTEND;VALUE=DATE:20250908
DTSTAMP:20260422T110907
CREATED:20240824T101544Z
LAST-MODIFIED:20250907T235528Z
UID:10000032-1756339200-1757289599@www.silviacareddu.com
SUMMARY:Jury member Kobe 11th Flute Competition
DESCRIPTION:
URL:https://www.silviacareddu.com/event/jury-member-kobe-11th-flute-competition/
LOCATION:Kōbe\, Prefettura di Hyōgo\, Giappone
END:VEVENT
BEGIN:VEVENT
DTSTART;TZID=Europe/Rome:20250912T213000
DTEND;TZID=Europe/Rome:20250912T230000
DTSTAMP:20260422T110907
CREATED:20250910T141025Z
LAST-MODIFIED:20250912T204013Z
UID:10000072-1757712600-1757718000@www.silviacareddu.com
SUMMARY:Classical Music Festival | A. Vivaldi & W.A. Mozart concertos with Orchestra Antonio Vivaldi di Venezia and Guglielmo de Stasio
DESCRIPTION:
URL:https://www.silviacareddu.com/event/classical-music-festival-a-vivaldi-w-a-mozart-concertos-with-orchestra-antonio-vivaldi-di-venezia-and-guglielmo-de-stasio/
LOCATION:Cervo Conference Center\, Via Porto Vecchio\, 07021 Porto Cervo SS\, Italia
END:VEVENT
END:VCALENDAR